BEGIN:VCALENDAR
VERSION:2.0
PRODID:-//Grundschule Stierstadt - ECPv6.2.8.2//NONSGML v1.0//EN
CALSCALE:GREGORIAN
METHOD:PUBLISH
X-ORIGINAL-URL:https://www.grundschule-stierstadt.de
X-WR-CALDESC:Veranstaltungen für Grundschule Stierstadt
REFRESH-INTERVAL;VALUE=DURATION:PT1H
X-Robots-Tag:noindex
X-PUBLISHED-TTL:PT1H
BEGIN:VTIMEZONE
TZID:Europe/Berlin
BEGIN:DAYLIGHT
TZOFFSETFROM:+0100
TZOFFSETTO:+0200
TZNAME:CEST
DTSTART:20230326T010000
END:DAYLIGHT
BEGIN:STANDARD
TZOFFSETFROM:+0200
TZOFFSETTO:+0100
TZNAME:CET
DTSTART:20231029T010000
END:STANDARD
BEGIN:DAYLIGHT
TZOFFSETFROM:+0100
TZOFFSETTO:+0200
TZNAME:CEST
DTSTART:20240331T010000
END:DAYLIGHT
BEGIN:STANDARD
TZOFFSETFROM:+0200
TZOFFSETTO:+0100
TZNAME:CET
DTSTART:20241027T010000
END:STANDARD
END:VTIMEZONE
BEGIN:VEVENT
DTSTART;VALUE=DATE:20241004
DTEND;VALUE=DATE:20241005
DTSTAMP:20260420T233423
CREATED:20240131T110334Z
LAST-MODIFIED:20240131T110334Z
UID:1975-1728000000-1728086399@www.grundschule-stierstadt.de
SUMMARY:Schulfrei
DESCRIPTION:Beweglicher Ferientag
URL:https://www.grundschule-stierstadt.de/termin/schulfrei-12/
END:VEVENT
BEGIN:VEVENT
DTSTART;VALUE=DATE:20240902
DTEND;VALUE=DATE:20240903
DTSTAMP:20260420T233423
CREATED:20240505T155443Z
LAST-MODIFIED:20240505T155631Z
UID:1998-1725235200-1725321599@www.grundschule-stierstadt.de
SUMMARY:neuer Stundenplan
DESCRIPTION:Ab heute gilt für alle Jahrgänge der neue Stundenplan. \nDer Förderunterricht startet erst ab der 3. Woche. Bitte informieren Sie als Eltern den Hort Ihres Kindes\, falls sich am regulären  Stundenplan die Anfangs- oder Endzeiten durch die Förderkursteilnahme ändern.
URL:https://www.grundschule-stierstadt.de/termin/neuer-stundenplan-2/
END:VEVENT
BEGIN:VEVENT
DTSTART;TZID=Europe/Berlin:20240828T091500
DTEND;TZID=Europe/Berlin:20240828T120000
DTSTAMP:20260420T233423
CREATED:20240505T155003Z
LAST-MODIFIED:20240505T155003Z
UID:1994-1724836500-1724846400@www.grundschule-stierstadt.de
SUMMARY:Einschulung E1
DESCRIPTION:Ein herzliches Willkommen an unsere neuen E1 Kinder mit ihren Familien! \n9.15 Uhr ökumenischer Gottesdienst in St. Sebastian \n10.00 Uhr Einschulungsfeier in der Aula der Schule \nEnde der Veranstaltung spätestens 12.00 Uhr
URL:https://www.grundschule-stierstadt.de/termin/einschulung-e1-2/
END:VEVENT
BEGIN:VEVENT
DTSTART;VALUE=DATE:20240826
DTEND;VALUE=DATE:20240827
DTSTAMP:20260420T233423
CREATED:20240505T155304Z
LAST-MODIFIED:20240505T155304Z
UID:1996-1724630400-1724716799@www.grundschule-stierstadt.de
SUMMARY:Schulbeginn E2 bis 4. Klassen
DESCRIPTION:Willkommen zurück aus den Sommerferien! Wir freuen uns auf alle Kinder der E2 bis 4. Klassen. \nDiese Woche findet Klassenlehrerinnenunterricht statt. Die genauen Uhrzeiten werden noch bekannt gegeben. \nAllen einen guten Start ins Schuljahr 2024/25!
URL:https://www.grundschule-stierstadt.de/termin/schulbeginn-e2-bis-4-klassen/
END:VEVENT
BEGIN:VEVENT
DTSTART;VALUE=DATE:20240713
DTEND;VALUE=DATE:20240826
DTSTAMP:20260420T233423
CREATED:20230908T135324Z
LAST-MODIFIED:20230908T135324Z
UID:1861-1720828800-1724630399@www.grundschule-stierstadt.de
SUMMARY:Sommerferien
DESCRIPTION:Wir wünschen der gesamten Schulgemeinde eine wundervolle und entspannte Ferienzeit und hoffen\, Ihre Kinder und Sie nach den Ferien gesund und munter wiederzusehen. \nUnseren Viertklässlern und ihren Familien wünschen wir alles erdenklich Gute für ihren Übergang in Klasse 5. Wir freuen uns\, wenn ihr uns irgendwann einmal besuchen kommt. \nDas Sekretariat ist in der ersten und sechsten Ferienwoche erreichbar.
URL:https://www.grundschule-stierstadt.de/termin/sommerferien-4/
END:VEVENT
BEGIN:VEVENT
DTSTART;TZID=Europe/Berlin:20240712T074500
DTEND;TZID=Europe/Berlin:20240712T103000
DTSTAMP:20260420T233423
CREATED:20230908T134944Z
LAST-MODIFIED:20230908T134944Z
UID:1859-1720770300-1720780200@www.grundschule-stierstadt.de
SUMMARY:Verabschiedung der Viertklässler / Zeugnisausgaben / Unterrichtsschluss um 10.30 Uhr
DESCRIPTION:Heute haben alle Kinder von der 1. bis 3. Stunde Klassenlehrerinnenunterricht. \nWir verabschieden unsere Viertklässler im Rahmen einer Feier\, zu der auch die Eltern der 4a und 4b Kinder eingeladen sind. Nähere Informationen folgen. \nIn der dritten Stunde erhalten die Schuljahre E2 bis 4 ihre Zeugnisse. Die E1 bekommt noch kein Zeugnis. \nDer Unterricht endet um 10.30 Uhr. Spätestens heute bitte alle Materialien und Sachen von der Garderobe (auch der Fundgarderobe!) mitnehmen.
URL:https://www.grundschule-stierstadt.de/termin/verabschiedung-der-viertklaessler-zeugnisausgaben-unterrichtsschluss-um-10-30-uhr/
END:VEVENT
BEGIN:VEVENT
DTSTART;VALUE=DATE:20240624
DTEND;VALUE=DATE:20240629
DTSTAMP:20260420T233423
CREATED:20230908T134627Z
LAST-MODIFIED:20230918T124351Z
UID:1857-1719187200-1719619199@www.grundschule-stierstadt.de
SUMMARY:Klassenfahrt 3. Sj. / Projektwoche
DESCRIPTION:In dieser Woche fahren die dritten Klassen auf Klassenfahrt\, während in der Schule für die anderen Klassen eine Projektwoche stattfindet. \nZu den veränderten Schulzeiten und Abläufen werden Sie rechtzeitig über die Ranzenpost informiert.
URL:https://www.grundschule-stierstadt.de/termin/klassenfahrt-3-sj-projektwoche/
END:VEVENT
BEGIN:VEVENT
DTSTART;VALUE=DATE:20240531
DTEND;VALUE=DATE:20240601
DTSTAMP:20260420T233423
CREATED:20230908T134410Z
LAST-MODIFIED:20230908T134410Z
UID:1855-1717113600-1717199999@www.grundschule-stierstadt.de
SUMMARY:schulfrei (beweglicher Ferientag)
DESCRIPTION:
URL:https://www.grundschule-stierstadt.de/termin/schulfrei-beweglicher-ferientag-2/
END:VEVENT
BEGIN:VEVENT
DTSTART;VALUE=DATE:20240530
DTEND;VALUE=DATE:20240531
DTSTAMP:20260420T233423
CREATED:20230908T134330Z
LAST-MODIFIED:20230908T134330Z
UID:1853-1717027200-1717113599@www.grundschule-stierstadt.de
SUMMARY:schulfrei (Fronleichnam)
DESCRIPTION:Heute ist ein gesetzlicher Feiertag mit anschließendem beweglichen Ferientag.
URL:https://www.grundschule-stierstadt.de/termin/schulfrei-fronleichnam-2/
END:VEVENT
BEGIN:VEVENT
DTSTART;VALUE=DATE:20240529
DTEND;VALUE=DATE:20240530
DTSTAMP:20260420T233423
CREATED:20240131T110506Z
LAST-MODIFIED:20240131T110506Z
UID:1977-1716940800-1717027199@www.grundschule-stierstadt.de
SUMMARY:Pädagogischer Tag
DESCRIPTION:Heute haben die Schule und das Betreuungszentrum Märchenland geschlossen\, da wir uns zum Thema „Ganztag“ fortbilden.
URL:https://www.grundschule-stierstadt.de/termin/paedagogischer-tag/
END:VEVENT
BEGIN:VEVENT
DTSTART;VALUE=DATE:20240520
DTEND;VALUE=DATE:20240521
DTSTAMP:20260420T233423
CREATED:20230908T134251Z
LAST-MODIFIED:20230908T134251Z
UID:1851-1716163200-1716249599@www.grundschule-stierstadt.de
SUMMARY:schulfrei (Pfingstmontag)
DESCRIPTION:Heute ist ein gesetzlicher Feiertag.
URL:https://www.grundschule-stierstadt.de/termin/schulfrei-pfingstmontag/
END:VEVENT
BEGIN:VEVENT
DTSTART;VALUE=DATE:20240510
DTEND;VALUE=DATE:20240511
DTSTAMP:20260420T233423
CREATED:20230908T134207Z
LAST-MODIFIED:20230908T134207Z
UID:1849-1715299200-1715385599@www.grundschule-stierstadt.de
SUMMARY:schulfrei (beweglicher Ferientag)
DESCRIPTION:
URL:https://www.grundschule-stierstadt.de/termin/schulfrei-beweglicher-ferientag/
END:VEVENT
BEGIN:VEVENT
DTSTART;VALUE=DATE:20240509
DTEND;VALUE=DATE:20240510
DTSTAMP:20260420T233423
CREATED:20230908T134124Z
LAST-MODIFIED:20230908T134124Z
UID:1847-1715212800-1715299199@www.grundschule-stierstadt.de
SUMMARY:schulfrei (Christi Himmelfahrt)
DESCRIPTION:Heute ist ein gesetzlicher Feiertag mit anschließendem beweglichem Ferientag.
URL:https://www.grundschule-stierstadt.de/termin/schulfrei-christi-himmelfahrt-2/
END:VEVENT
BEGIN:VEVENT
DTSTART;VALUE=DATE:20240501
DTEND;VALUE=DATE:20240502
DTSTAMP:20260420T233423
CREATED:20230908T134016Z
LAST-MODIFIED:20230908T134016Z
UID:1845-1714521600-1714607999@www.grundschule-stierstadt.de
SUMMARY:schulfrei (Tag der Arbeit)
DESCRIPTION:Am heutigen Mittwoch ist ein gesetzlicher Feiertag. Es gibt davor und danach keine beweglichen Ferientage. Montag\, Dienstag\, Donnerstag und Freitag findet regulär Unterricht statt.
URL:https://www.grundschule-stierstadt.de/termin/schulfrei-tag-der-arbeit/
END:VEVENT
BEGIN:VEVENT
DTSTART;VALUE=DATE:20240418
DTEND;VALUE=DATE:20240419
DTSTAMP:20260420T233423
CREATED:20230908T124026Z
LAST-MODIFIED:20230908T124026Z
UID:1843-1713398400-1713484799@www.grundschule-stierstadt.de
SUMMARY:Känguru-Wettbewerb der Mathematik
DESCRIPTION:Heute dürfen unsere Dritt- und Viertklässler wieder beweisen\, wie toll sie rechnen und knobeln können. Nähere Informationen zur Anmeldung und zum Ablauf folgen zu gegebener Zeit über die Ranzenpost (Stand 8.9.23).
URL:https://www.grundschule-stierstadt.de/termin/kaenguru-wettbewerb-der-mathematik-2/
END:VEVENT
BEGIN:VEVENT
DTSTART;VALUE=DATE:20240415
DTEND;VALUE=DATE:20240504
DTSTAMP:20260420T233423
CREATED:20230908T123853Z
LAST-MODIFIED:20230908T123853Z
UID:1841-1713139200-1714780799@www.grundschule-stierstadt.de
SUMMARY:MachMINT Experimente Ausstellung
DESCRIPTION:Wir freuen uns auf die MachMINT-Experimente der Carls-Stiftung\, die bis Anfang Mai in unserer Aula ausgestellt werden 🙂
URL:https://www.grundschule-stierstadt.de/termin/machmint-experimente-ausstellung/
END:VEVENT
BEGIN:VEVENT
DTSTART;VALUE=DATE:20240323
DTEND;VALUE=DATE:20240415
DTSTAMP:20260420T233423
CREATED:20230908T123545Z
LAST-MODIFIED:20230908T123545Z
UID:1839-1711152000-1713139199@www.grundschule-stierstadt.de
SUMMARY:Osterferien
DESCRIPTION:Wir wünschen Ihnen eine erholsame und schöne Ferienzeit mit gesegneten Feiertagen.
URL:https://www.grundschule-stierstadt.de/termin/osterferien-4/
END:VEVENT
BEGIN:VEVENT
DTSTART;TZID=Europe/Berlin:20240322T103000
DTEND;TZID=Europe/Berlin:20240322T103000
DTSTAMP:20260420T233423
CREATED:20230908T123351Z
LAST-MODIFIED:20230908T123351Z
UID:1837-1711103400-1711103400@www.grundschule-stierstadt.de
SUMMARY:Unterrichtsschluss 10.30 Uhr
DESCRIPTION:Heute findet in der 1. und 2. Stunde Unterricht nach Plan statt\, in der 3. Stunde Klassenlehrerinnenunterricht. Um 10.30 Uhr starten wir in die Osterferien.
URL:https://www.grundschule-stierstadt.de/termin/unterrichtsschluss-10-30-uhr-3/
END:VEVENT
BEGIN:VEVENT
DTSTART;TZID=Europe/Berlin:20240220T190000
DTEND;TZID=Europe/Berlin:20240220T203000
DTSTAMP:20260420T233423
CREATED:20230908T123105Z
LAST-MODIFIED:20230908T123105Z
UID:1835-1708455600-1708461000@www.grundschule-stierstadt.de
SUMMARY:Informationsabend zur Schulanmeldung der neuen E1
DESCRIPTION:Wir laden alle Eltern zu diesem Informationsabend ein\, deren Kinder im Schuljahr 24/25 in die E1 eingeschult werden. Hier erläutern wir das Konzept der Eingangsstufe sowie das Schulanmeldeverfahren. \nNähere Informationen zur Ausgestaltung des Abends folgen postalisch und zu gegebener Zeit hier auf der Homepage. (Stand: 8.9.23)
URL:https://www.grundschule-stierstadt.de/termin/informationsabend-zur-schulanmeldung-der-neuen-e1/
END:VEVENT
BEGIN:VEVENT
DTSTART;TZID=Europe/Berlin:20240213T074500
DTEND;TZID=Europe/Berlin:20240213T114000
DTSTAMP:20260420T233423
CREATED:20230908T122819Z
LAST-MODIFIED:20230908T122819Z
UID:1833-1707810300-1707824400@www.grundschule-stierstadt.de
SUMMARY:Buntes Faschingstreiben
DESCRIPTION:Heute findet für alle Klassen verkürzter Unterricht von der 1. bis zur 4. Stunde statt. Die Kinder dürfen verkleidet kommen. Waffen und Konfetti bleiben bitte zu Hause! Der Unterricht endet für alle Kinder um 11.40 Uhr. Helau!
URL:https://www.grundschule-stierstadt.de/termin/buntes-faschingstreiben/
END:VEVENT
BEGIN:VEVENT
DTSTART;VALUE=DATE:20240212
DTEND;VALUE=DATE:20240213
DTSTAMP:20260420T233423
CREATED:20230908T122622Z
LAST-MODIFIED:20230908T122622Z
UID:1831-1707696000-1707782399@www.grundschule-stierstadt.de
SUMMARY:schulfrei (Rosenmontag)
DESCRIPTION:Heute ist ein beweglicher Ferientag.
URL:https://www.grundschule-stierstadt.de/termin/schulfrei-rosenmontag-2/
END:VEVENT
BEGIN:VEVENT
DTSTART;TZID=Europe/Berlin:20240202T103000
DTEND;TZID=Europe/Berlin:20240202T103000
DTSTAMP:20260420T233423
CREATED:20230908T122521Z
LAST-MODIFIED:20231205T090336Z
UID:1829-1706869800-1706869800@www.grundschule-stierstadt.de
SUMMARY:Schulschluss um 10.30 Uhr / Halbjahreszeugnisse 3./ 4. Schuljahr
DESCRIPTION:In der 1. und 2. Stunde findet Unterricht nach Plan statt\, in der 3. Stunde Klassenlehrerinnenunterricht. \nIn der 3. Stunde erhalten die dritten und vierten Klassen ihre Halbjahreszeugnisse.
URL:https://www.grundschule-stierstadt.de/termin/schulschluss-um-10-30-uhr-halbjahreszeugnisse-3-4-schuljahr/
END:VEVENT
BEGIN:VEVENT
DTSTART;VALUE=DATE:20231223
DTEND;VALUE=DATE:20240115
DTSTAMP:20260420T233423
CREATED:20230906T131616Z
LAST-MODIFIED:20231205T090359Z
UID:1809-1703289600-1705276799@www.grundschule-stierstadt.de
SUMMARY:Weihnachtsferien
DESCRIPTION:Wir wünschen allen gesegnete Feiertage\, erholsame Ferien und einen guten Rutsch ins neue Jahr.
URL:https://www.grundschule-stierstadt.de/termin/weihnachtsferien-3/
END:VEVENT
BEGIN:VEVENT
DTSTART;TZID=Europe/Berlin:20231222T103000
DTEND;TZID=Europe/Berlin:20231222T103000
DTSTAMP:20260420T233423
CREATED:20230906T114657Z
LAST-MODIFIED:20230906T114657Z
UID:1807-1703241000-1703241000@www.grundschule-stierstadt.de
SUMMARY:Unterrichtsschluss 10.30 Uhr
DESCRIPTION:Heute starten wir in die Weihnachtsferien. Die Klassen haben in der 1. und 2. Stunde Unterricht nach Plan. In der 3. Stunde findet Klassenlehrerinnenunterricht statt. \nDas Märchenland ist heute geschlossen.
URL:https://www.grundschule-stierstadt.de/termin/unterrichtsschluss-10-30-uhr-2/
END:VEVENT
BEGIN:VEVENT
DTSTART;TZID=Europe/Berlin:20231218T100000
DTEND;TZID=Europe/Berlin:20231218T110000
DTSTAMP:20260420T233423
CREATED:20231218T035348Z
LAST-MODIFIED:20231218T035348Z
UID:1926-1702893600-1702897200@www.grundschule-stierstadt.de
SUMMARY:Gottesdienst
DESCRIPTION:Wir feiern heute als Schulgemeinde einen ökumenischen Gottesdienst in Sankt Sebastian. Nähere Informationen finden Sie im Elterbrief der Schulleiterin.
URL:https://www.grundschule-stierstadt.de/termin/gottesdienst/
END:VEVENT
BEGIN:VEVENT
DTSTART;TZID=Europe/Berlin:20231214T163000
DTEND;TZID=Europe/Berlin:20231214T180000
DTSTAMP:20260420T233423
CREATED:20231208T131615Z
LAST-MODIFIED:20231208T131736Z
UID:1884-1702571400-1702576800@www.grundschule-stierstadt.de
SUMMARY:Lesen unter dem Tannenbaum
DESCRIPTION:Die Klassen 3a und 3b präsentieren heute ihr Vorlese-Können beim Lesen unter dem Tannenbaum. Die Schulgemeinde ist herzlich eingeladen\, den Vorträgen zu lauschen und anschließend am Stand der Buchhandlung Bollinger nach möglichen Weihnachtsgeschenken zu stöbern.
URL:https://www.grundschule-stierstadt.de/termin/lesen-unter-dem-tannenbaum/
END:VEVENT
BEGIN:VEVENT
DTSTART;VALUE=DATE:20231129
DTEND;VALUE=DATE:20231130
DTSTAMP:20260420T233423
CREATED:20230906T114449Z
LAST-MODIFIED:20230906T114524Z
UID:1803-1701216000-1701302399@www.grundschule-stierstadt.de
SUMMARY:Theaterausflug Klassen 2
DESCRIPTION:Heute besuchen die E2 Klassen ein Theater. Nähere Informationen erfolgen über die Ranzenpost.
URL:https://www.grundschule-stierstadt.de/termin/theaterausflug-klassen-3-4/
END:VEVENT
BEGIN:VEVENT
DTSTART;VALUE=DATE:20231021
DTEND;VALUE=DATE:20231030
DTSTAMP:20260420T233423
CREATED:20230906T114231Z
LAST-MODIFIED:20230906T114231Z
UID:1801-1697846400-1698623999@www.grundschule-stierstadt.de
SUMMARY:Herbstferien
DESCRIPTION:Wir wünschen allen eine schöne Ferienzeit.
URL:https://www.grundschule-stierstadt.de/termin/herbstferien-4/
END:VEVENT
BEGIN:VEVENT
DTSTART;TZID=Europe/Berlin:20231020T103000
DTEND;TZID=Europe/Berlin:20231020T103000
DTSTAMP:20260420T233423
CREATED:20230906T113011Z
LAST-MODIFIED:20230906T113011Z
UID:1799-1697797800-1697797800@www.grundschule-stierstadt.de
SUMMARY:Unterrichtsschluss um 10.30 Uhr
DESCRIPTION:Heute starten wir in die Herbstferien. Alle Kinder haben in der 1. und 2. Stunde Unterricht nach Plan. In der 3. Stunde findet Klassenlehrerinnenunterricht statt.
URL:https://www.grundschule-stierstadt.de/termin/unterrichtsschluss-um-10-30-uhr-3/
END:VEVENT
BEGIN:VEVENT
DTSTART;VALUE=DATE:20231003
DTEND;VALUE=DATE:20231004
DTSTAMP:20260420T233423
CREATED:20230906T112857Z
LAST-MODIFIED:20230906T112857Z
UID:1797-1696291200-1696377599@www.grundschule-stierstadt.de
SUMMARY:schulfrei (Tag der deutschen Einheit)
DESCRIPTION:Heute ist ein gesetzlicher Feiertag und die Schule bleibt geschlossen. An allen anderen Tagen in dieser Woche findet Unterricht statt. Es gibt keinen beweglichen Ferientag / Brückentag.
URL:https://www.grundschule-stierstadt.de/termin/schulfrei-tag-der-deutschen-einheit/
END:VEVENT
END:VCALENDAR